BEGIN:VCALENDAR
VERSION:2.0
PRODID:SchoolNow
CALSCALE:GREGORIAN
BEGIN:VEVENT
UID:78282718-f3b2-11eb-8d83-0ef7a93f529d
DTSTAMP:20210802T165905Z
SUMMARY:Terra Nova Testing Begins
URL;VALUE=URI:https://www.materdeicatholic.com/calendar/2652271/terra-nova-
 testing
DTSTART;VALUE=DATE:20220304
DTEND;VALUE=DATE:20220305
END:VEVENT
END:VCALENDAR
