BEGIN:VCALENDAR
VERSION:2.0
PRODID:SchoolNow
CALSCALE:GREGORIAN
BEGIN:VEVENT
UID:17e1ca12-f3b2-11eb-80cd-0ef7a93f529d
DTSTAMP:20210802T165259Z
SUMMARY:No School
URL;VALUE=URI:https://www.materdeicatholic.com/calendar/2652256/no-school
DTSTART;VALUE=DATE:20220221
DTEND;VALUE=DATE:20220222
END:VEVENT
END:VCALENDAR
