BEGIN:VCALENDAR
VERSION:2.0
PRODID:SchoolNow
CALSCALE:GREGORIAN
BEGIN:VEVENT
UID:e94d6e68-f3b1-11eb-8e1c-0ef7a93f529d
DTSTAMP:20210802T165141Z
SUMMARY:Early Dismissal
URL;VALUE=URI:https://www.materdeicatholic.com/calendar/2652249/early-dismi
 ssal
DTSTART:20220218T163000Z
DTEND:20220218T164500Z
END:VEVENT
END:VCALENDAR
