BEGIN:VCALENDAR
VERSION:2.0
PRODID:SchoolNow
CALSCALE:GREGORIAN
BEGIN:VEVENT
UID:c5f771e8-f3b1-11eb-98e0-0ef7a93f529d
DTSTAMP:20210912T002146Z
SUMMARY:Polar Bear Plunge Pep-Rally
LOCATION:Mater Dei Catholic School Gym
URL;VALUE=URI:https://www.materdeicatholic.com/calendar/2652248/polar-beard
 -plunge-pep-rally
DTSTART:20220218T143000Z
DTEND:20220218T153000Z
END:VEVENT
END:VCALENDAR
