BEGIN:VCALENDAR
VERSION:2.0
PRODID:SchoolNow
CALSCALE:GREGORIAN
BEGIN:VEVENT
UID:ebd98c3a-f3b0-11eb-803b-0ef7a93f529d
DTSTAMP:20210802T164436Z
SUMMARY:Catholic Schools Week
URL;VALUE=URI:https://www.materdeicatholic.com/calendar/2652242/catholic-sc
 hools-week
DTSTART;VALUE=DATE:20220130
DTEND;VALUE=DATE:20220205
END:VEVENT
END:VCALENDAR
