BEGIN:VCALENDAR
VERSION:2.0
PRODID:SchoolNow
CALSCALE:GREGORIAN
BEGIN:VEVENT
UID:69d532a2-f3b0-11eb-9df4-0ef7a93f529d
DTSTAMP:20210802T164058Z
SUMMARY:No School
URL;VALUE=URI:https://www.materdeicatholic.com/calendar/2652236/no-school
DTSTART;VALUE=DATE:20220117
DTEND;VALUE=DATE:20220118
END:VEVENT
END:VCALENDAR
