BEGIN:VCALENDAR
VERSION:2.0
PRODID:SchoolNow
CALSCALE:GREGORIAN
BEGIN:VEVENT
UID:0a7a514c-ebd7-11eb-a1ae-02b0a60aa7c9
DTSTAMP:20210723T165719Z
SUMMARY:Classes Resume
URL;VALUE=URI:https://www.materdeicatholic.com/calendar/2646482/classes-res
 ume
DTSTART;VALUE=DATE:20220103
DTEND;VALUE=DATE:20220104
END:VEVENT
END:VCALENDAR
