BEGIN:VCALENDAR
VERSION:2.0
PRODID:SchoolNow
CALSCALE:GREGORIAN
BEGIN:VEVENT
UID:381914c0-ebd3-11eb-9aa6-0e8cd3911189
DTSTAMP:20210723T162957Z
SUMMARY:Il Giardino Dining Night Out
LOCATION:907 N. Bethlehem Pike\, Spring House\, PA  19477
URL;VALUE=URI:https://www.materdeicatholic.com/calendar/2646427/il-giardino
 -dining-night-out
DTSTART;VALUE=DATE:20210930
DTEND;VALUE=DATE:20211001
END:VEVENT
END:VCALENDAR
