BEGIN:VCALENDAR
VERSION:2.0
PRODID:SchoolNow
CALSCALE:GREGORIAN
BEGIN:VEVENT
UID:e60c4504-eb13-11eb-9560-0e4daf4baf0d
DTSTAMP:20210722T174026Z
SUMMARY:Trunk or Treat
URL;VALUE=URI:https://www.materdeicatholic.com/calendar/2645740/trunk-or-tr
 eat
DTSTART:20211029T173000Z
DTEND:20211029T184500Z
END:VEVENT
END:VCALENDAR
