BEGIN:VCALENDAR
VERSION:2.0
PRODID:SchoolNow
CALSCALE:GREGORIAN
BEGIN:VEVENT
UID:204b7602-eaee-11eb-a4ed-02a4be7f71ad
DTSTAMP:20221229T150149Z
SUMMARY:Chipotle Dining Night Out
URL;VALUE=URI:https://www.materdeicatholic.com/calendar/2645280/chipotle-di
 ning-night-out
DTSTART:20210913T200000Z
DTEND:20210914T000000Z
END:VEVENT
END:VCALENDAR
