BEGIN:VCALENDAR
VERSION:2.0
PRODID:SchoolNow
CALSCALE:GREGORIAN
BEGIN:VEVENT
UID:f9e0fa78-eaed-11eb-ba49-02a4be7f71ad
DTSTAMP:20221229T145959Z
SUMMARY:Panera Dining Night Out
URL;VALUE=URI:https://www.materdeicatholic.com/calendar/2645279/panera-dini
 ng-night-out
DTSTART:20210820T200000Z
DTEND:20210821T000000Z
END:VEVENT
END:VCALENDAR
