BEGIN:VCALENDAR
VERSION:2.0
PRODID:SchoolNow
CALSCALE:GREGORIAN
BEGIN:VEVENT
UID:dcf906b6-e8a5-11eb-9dd9-0a7bf632046b
DTSTAMP:20210802T170333Z
SUMMARY:No School
URL;VALUE=URI:https://www.materdeicatholic.com/calendar/2642406/no-school-p
 rofessional-development-day-for-faculty
DTSTART;VALUE=DATE:20211022
DTEND;VALUE=DATE:20211023
END:VEVENT
END:VCALENDAR
