BEGIN:VCALENDAR
VERSION:2.0
PRODID:SchoolNow
CALSCALE:GREGORIAN
BEGIN:VEVENT
UID:2230b4c8-e8a5-11eb-8012-0a7bf632046b
DTSTAMP:20210719T152230Z
SUMMARY:New Families Open House Tours
URL;VALUE=URI:https://www.materdeicatholic.com/calendar/2642403/new-familie
 s-open-house-tours
DTSTART:20211018T223000Z
DTEND:20211018T233000Z
END:VEVENT
END:VCALENDAR
