BEGIN:VCALENDAR
VERSION:2.0
PRODID:SchoolNow
CALSCALE:GREGORIAN
BEGIN:VEVENT
UID:9d968ac6-e8a4-11eb-b66f-0a7bf632046b
DTSTAMP:20211004T112300Z
SUMMARY:Progress Reports
URL;VALUE=URI:https://www.materdeicatholic.com/calendar/2642401/progress-re
 ports
DTSTART;VALUE=DATE:20211021
DTEND;VALUE=DATE:20211022
END:VEVENT
END:VCALENDAR
