BEGIN:VCALENDAR
VERSION:2.0
PRODID:SchoolNow
CALSCALE:GREGORIAN
BEGIN:VEVENT
UID:3a6caa02-e8a4-11eb-9d93-0a7bf632046b
DTSTAMP:20210719T151601Z
SUMMARY:Re-Registration Begins for 2022-2023 School Year
URL;VALUE=URI:https://www.materdeicatholic.com/calendar/2642399/re-registra
 tion-begins-for-2022-2023-school-year
DTSTART;VALUE=DATE:20211011
DTEND;VALUE=DATE:20211012
END:VEVENT
END:VCALENDAR
