BEGIN:VCALENDAR
VERSION:2.0
PRODID:SchoolNow
CALSCALE:GREGORIAN
BEGIN:VEVENT
UID:e12a4a2c-e8a2-11eb-8d05-029487f66971
DTSTAMP:20210719T150622Z
SUMMARY:Hearing Screening
URL;VALUE=URI:https://www.materdeicatholic.com/calendar/2642397/hearing-scr
 eening
DTSTART:20211007T163000Z
DTEND:20211007T183000Z
END:VEVENT
END:VCALENDAR
