BEGIN:VCALENDAR
VERSION:2.0
PRODID:SchoolNow
CALSCALE:GREGORIAN
BEGIN:VEVENT
UID:058031da-e8a2-11eb-af78-029487f66971
DTSTAMP:20210719T150013Z
SUMMARY:New Families Virtual Open House
URL;VALUE=URI:https://www.materdeicatholic.com/calendar/2642395/new-familie
 s-virtual-open-house
DTSTART:20211004T223000Z
DTEND:20211004T233000Z
END:VEVENT
END:VCALENDAR
