BEGIN:VCALENDAR
VERSION:2.0
PRODID:SchoolNow
CALSCALE:GREGORIAN
BEGIN:VEVENT
UID:f681d644-e8a0-11eb-b088-029487f66971
DTSTAMP:20210719T145239Z
SUMMARY:Family Mass - 10th Anniversary of the Opening of Mater Dei
LOCATION:St. Stanislaus Church
URL;VALUE=URI:https://www.materdeicatholic.com/calendar/2642393/family-mass
 -10th-anniversary-of-the-opening-of-mater-dei
DTSTART:20210912T150000Z
DTEND:20210912T160000Z
END:VEVENT
END:VCALENDAR
