BEGIN:VCALENDAR
VERSION:2.0
PRODID:SchoolNow
CALSCALE:GREGORIAN
BEGIN:VEVENT
UID:a4c64556-e8a0-11eb-b886-029487f66971
DTSTAMP:20210723T165128Z
SUMMARY:Tech Glow Run
LOCATION:St. Maria Goretti
URL;VALUE=URI:https://www.materdeicatholic.com/calendar/2642391/tech-glow-r
 un
DTSTART:20211001T210000Z
DTEND:20211001T230000Z
END:VEVENT
END:VCALENDAR
