BEGIN:VCALENDAR
VERSION:2.0
PRODID:SchoolNow
CALSCALE:GREGORIAN
BEGIN:VEVENT
UID:0012a0f4-e8a0-11eb-b26f-029487f66971
DTSTAMP:20210719T144545Z
SUMMARY:Gr. 4-8 Zoom Back to School Night
URL;VALUE=URI:https://www.materdeicatholic.com/calendar/2642390/gr-4-8-zoom
 -back-to-school-night
DTSTART:20210914T223000Z
DTEND:20210915T001500Z
END:VEVENT
END:VCALENDAR
