BEGIN:VCALENDAR
VERSION:2.0
PRODID:SchoolNow
CALSCALE:GREGORIAN
BEGIN:VEVENT
UID:79d11142-e89f-11eb-9330-029487f66971
DTSTAMP:20221229T150046Z
SUMMARY:Home & School Cornhole Tournament
URL;VALUE=URI:https://www.materdeicatholic.com/calendar/2642389/h-s-assoc-c
 ornhole-tournament
DTSTART:20210911T200000Z
DTEND:20210912T020000Z
END:VEVENT
END:VCALENDAR
