BEGIN:VCALENDAR
VERSION:2.0
PRODID:SchoolNow
CALSCALE:GREGORIAN
BEGIN:VEVENT
UID:1f613552-e89f-11eb-84dd-029487f66971
DTSTAMP:20210719T144025Z
SUMMARY:First Day of School for Pre K - Gr. 8
URL;VALUE=URI:https://www.materdeicatholic.com/calendar/2642388/first-day-o
 f-school-for-pre-k-gr-8
DTSTART;VALUE=DATE:20210908
DTEND;VALUE=DATE:20210909
END:VEVENT
END:VCALENDAR
