BEGIN:VCALENDAR
VERSION:2.0
PRODID:SchoolNow
CALSCALE:GREGORIAN
BEGIN:VEVENT
UID:ab220572-e89e-11eb-b149-029487f66971
DTSTAMP:20210830T193558Z
SUMMARY:Pre K-Gr. 3 Zoom Back to School Night
URL;VALUE=URI:https://www.materdeicatholic.com/calendar/2642387/zoom-back-t
 o-school-night-prek-gr-3
DTSTART:20210907T223000Z
DTEND:20210908T001500Z
END:VEVENT
END:VCALENDAR
