BEGIN:VCALENDAR
VERSION:2.0
PRODID:SchoolNow
CALSCALE:GREGORIAN
BEGIN:VEVENT
UID:49d56b74-e89e-11eb-8155-029487f66971
DTSTAMP:20210719T143330Z
SUMMARY:Open House
URL;VALUE=URI:https://www.materdeicatholic.com/calendar/2642386/open-house
DTSTART:20210907T163000Z
DTEND:20210907T183000Z
END:VEVENT
END:VCALENDAR
