BEGIN:VCALENDAR
VERSION:2.0
PRODID:SchoolNow
CALSCALE:GREGORIAN
BEGIN:VEVENT
UID:317443d4-e89e-11eb-b0b7-029487f66971
DTSTAMP:20210719T143249Z
SUMMARY:Open House
URL;VALUE=URI:https://www.materdeicatholic.com/calendar/2642385/open-house
DTSTART:20210907T130000Z
DTEND:20210907T153000Z
END:VEVENT
END:VCALENDAR
