BEGIN:VCALENDAR
VERSION:2.0
PRODID:SchoolNow
CALSCALE:GREGORIAN
BEGIN:VEVENT
UID:e9500c8c-e89d-11eb-8e26-029487f66971
DTSTAMP:20210719T143048Z
SUMMARY:Professional Development Day for Faculty
URL;VALUE=URI:https://www.materdeicatholic.com/calendar/2642384/professiona
 l-development-day-for-faculty
DTSTART;VALUE=DATE:20210902
DTEND;VALUE=DATE:20210903
END:VEVENT
END:VCALENDAR
