BEGIN:VCALENDAR
VERSION:2.0
PRODID:SchoolNow
CALSCALE:GREGORIAN
BEGIN:VEVENT
UID:cb5da454-9afb-11eb-bd4c-0a1683b70a27
DTSTAMP:20210411T192824Z
SUMMARY:Blue Tide Express Car Wash Fundraiser
URL;VALUE=URI:https://www.materdeicatholic.com/calendar/2573990/blue-tide-c
 ar-wash-fundraiser
DTSTART:20210417T120000Z
DTEND:20210417T190000Z
END:VEVENT
END:VCALENDAR
