BEGIN:VCALENDAR
VERSION:2.0
PRODID:SchoolNow
CALSCALE:GREGORIAN
BEGIN:VEVENT
UID:51bf4d1e-9afb-11eb-9b21-0a1683b70a27
DTSTAMP:20210411T192256Z
SUMMARY:Mystic Pizza Dine and Donate
URL;VALUE=URI:https://www.materdeicatholic.com/calendar/2573989/mystic-pizz
 a-dine-and-donate
DTSTART;VALUE=DATE:20210419
DTEND;VALUE=DATE:20210422
END:VEVENT
END:VCALENDAR
