BEGIN:VCALENDAR
VERSION:2.0
PRODID:SchoolNow
CALSCALE:GREGORIAN
BEGIN:VEVENT
UID:39c1cdc8-9afa-11eb-bc9a-0201e5fca189
DTSTAMP:20210411T191506Z
SUMMARY:Texas Roadhouse Dine and Donate
URL;VALUE=URI:https://www.materdeicatholic.com/calendar/2573988/texas-roadh
 ouse-dine-and-donate
DTSTART:20210503T200000Z
DTEND:20210504T000000Z
END:VEVENT
END:VCALENDAR
