BEGIN:VCALENDAR
VERSION:2.0
PRODID:SchoolNow
CALSCALE:GREGORIAN
BEGIN:VEVENT
UID:00a75154-8d79-11eb-a09e-0a59a6107091
DTSTAMP:20210325T144740Z
SUMMARY:Summer Uniforms Begin
URL;VALUE=URI:https://www.materdeicatholic.com/calendar/2562366/summer-unif
 orms-begin
DTSTART;VALUE=DATE:20210406
DTEND;VALUE=DATE:20210407
END:VEVENT
END:VCALENDAR
