BEGIN:VCALENDAR
VERSION:2.0
PRODID:SchoolNow
CALSCALE:GREGORIAN
BEGIN:VEVENT
UID:d71b7058-88b0-11eb-a6db-0a036da6cc97
DTSTAMP:20210319T124541Z
SUMMARY:Eighth Grade Graduation
URL;VALUE=URI:https://www.materdeicatholic.com/calendar/2559072/eighth-grad
 e-graduation
DTSTART:20210613T210000Z
DTEND:20210613T223000Z
END:VEVENT
END:VCALENDAR
