BEGIN:VCALENDAR
VERSION:2.0
PRODID:SchoolNow
CALSCALE:GREGORIAN
BEGIN:VEVENT
UID:b27d085c-7d4c-11eb-8b8f-0ea243c54701
DTSTAMP:20210305T004953Z
SUMMARY:Owowcow Dine and Donate
URL;VALUE=URI:https://www.materdeicatholic.com/calendar/2552438/owowcow-din
 e-and-donate
DTSTART:20210310T220000Z
DTEND:20210311T010000Z
END:VEVENT
END:VCALENDAR
