BEGIN:VCALENDAR
VERSION:2.0
PRODID:SchoolNow
CALSCALE:GREGORIAN
BEGIN:VEVENT
UID:fd216286-7766-11eb-9814-0e1bf08c08cf
DTSTAMP:20210225T124258Z
SUMMARY:Pot of Gold Raffle Tickets Due
URL;VALUE=URI:https://www.materdeicatholic.com/calendar/2546491/pot-of-gold
 -raffle-tickets-due
DTSTART;VALUE=DATE:20210312
DTEND;VALUE=DATE:20210313
END:VEVENT
END:VCALENDAR
