BEGIN:VCALENDAR
VERSION:2.0
PRODID:SchoolNow
CALSCALE:GREGORIAN
BEGIN:VEVENT
UID:2adbcd02-7766-11eb-8b8d-0e429a84f835
DTSTAMP:20210514T124308Z
SUMMARY:Boon Supply Fundraiser Ends
URL;VALUE=URI:https://www.materdeicatholic.com/calendar/2546490/boon-supply
 -fundraiser-ends
DTSTART;VALUE=DATE:20210517
DTEND;VALUE=DATE:20210518
END:VEVENT
END:VCALENDAR
