BEGIN:VCALENDAR
VERSION:2.0
PRODID:SchoolNow
CALSCALE:GREGORIAN
BEGIN:VEVENT
UID:10333508-7766-11eb-aaab-0e429a84f835
DTSTAMP:20210225T123620Z
SUMMARY:Boon Supply Fundraiser Begins
URL;VALUE=URI:https://www.materdeicatholic.com/calendar/2546489/boon-supply
 -fundraiser-begins
DTSTART;VALUE=DATE:20210426
DTEND;VALUE=DATE:20210427
END:VEVENT
END:VCALENDAR
