BEGIN:VCALENDAR
VERSION:2.0
PRODID:SchoolNow
CALSCALE:GREGORIAN
BEGIN:VEVENT
UID:6d96d97c-5f2c-11eb-b88a-0a4650ecd32b
DTSTAMP:20210125T164318Z
SUMMARY:Fun Pasta Fundraiser ends
URL;VALUE=URI:https://www.materdeicatholic.com/calendar/2530517/fun-pasta-f
 undraiser-ends
DTSTART;VALUE=DATE:20210205
DTEND;VALUE=DATE:20210206
END:VEVENT
END:VCALENDAR
