BEGIN:VCALENDAR
VERSION:2.0
PRODID:SchoolNow
CALSCALE:GREGORIAN
BEGIN:VEVENT
UID:5ae8e914-5f2c-11eb-9cbd-0a4650ecd32b
DTSTAMP:20210125T164247Z
SUMMARY:Fun Pasta Fundraiser begins
URL;VALUE=URI:https://www.materdeicatholic.com/calendar/2530515/fun-pasta-f
 undraiser-begins
DTSTART;VALUE=DATE:20210125
DTEND;VALUE=DATE:20210126
END:VEVENT
END:VCALENDAR
