BEGIN:VCALENDAR
VERSION:2.0
PRODID:SchoolNow
CALSCALE:GREGORIAN
BEGIN:VEVENT
UID:1d977d14-5f2c-11eb-901a-0a4650ecd32b
DTSTAMP:20210125T164104Z
SUMMARY:Owowcow Dine and Donate
URL;VALUE=URI:https://www.materdeicatholic.com/calendar/2530510/owowcow-din
 e-and-donate
DTSTART:20210203T220000Z
DTEND:20210204T010000Z
END:VEVENT
END:VCALENDAR
