BEGIN:VCALENDAR
VERSION:2.0
PRODID:SchoolNow
CALSCALE:GREGORIAN
BEGIN:VEVENT
UID:d50430da-380a-11eb-a0c6-129fd3cb37f7
DTSTAMP:20201206T213433Z
SUMMARY:No School
URL;VALUE=URI:https://www.materdeicatholic.com/calendar/2509296/no-school
DTSTART;VALUE=DATE:20201221
DTEND;VALUE=DATE:20210102
END:VEVENT
END:VCALENDAR
