BEGIN:VCALENDAR
VERSION:2.0
PRODID:SchoolNow
CALSCALE:GREGORIAN
BEGIN:VEVENT
UID:ddc61b08-2a5d-11eb-a640-0aeba7fced13
DTSTAMP:20201119T115340Z
SUMMARY:Mystic Pizza Dine and Donate
URL;VALUE=URI:https://www.materdeicatholic.com/calendar/2499847/mystic-pizz
 a-dine-and-donate
DTSTART;VALUE=DATE:20201123
DTEND;VALUE=DATE:20201126
END:VEVENT
END:VCALENDAR
