BEGIN:VCALENDAR
VERSION:2.0
PRODID:SchoolNow
CALSCALE:GREGORIAN
BEGIN:VEVENT
UID:11f03f72-1fcc-11eb-99b4-0a870f330ff1
DTSTAMP:20201106T010449Z
SUMMARY:Christmas Wishlist Raffle
URL;VALUE=URI:https://www.materdeicatholic.com/calendar/2490708/christmas-w
 ishlist-raffle
DTSTART:20201205T160000Z
DTEND:20201205T170000Z
END:VEVENT
END:VCALENDAR
