BEGIN:VCALENDAR
VERSION:2.0
PRODID:SchoolNow
CALSCALE:GREGORIAN
BEGIN:VEVENT
UID:feb09054-1ba9-11eb-9d06-12b447861a21
DTSTAMP:20201031T185050Z
SUMMARY:Five Below Fundraiser
URL;VALUE=URI:https://www.materdeicatholic.com/calendar/2485895/five-below-
 fundraiser
DTSTART;VALUE=DATE:20201127
DTEND;VALUE=DATE:20201205
END:VEVENT
END:VCALENDAR
