BEGIN:VCALENDAR
VERSION:2.0
PRODID:SchoolNow
CALSCALE:GREGORIAN
BEGIN:VEVENT
UID:a0e42b2c-1ba2-11eb-ae53-0ab1a4f2f743
DTSTAMP:20201031T175806Z
SUMMARY:Margaritas Dine and Donate
URL;VALUE=URI:https://www.materdeicatholic.com/calendar/2485819/margaritas-
 dine-and-donate
DTSTART;VALUE=DATE:20201109
DTEND;VALUE=DATE:20201110
END:VEVENT
END:VCALENDAR
