BEGIN:VCALENDAR
VERSION:2.0
PRODID:SchoolNow
CALSCALE:GREGORIAN
BEGIN:VEVENT
UID:db299af4-1b9f-11eb-828c-0ab1a4f2f743
DTSTAMP:20201031T175834Z
SUMMARY:MaGerk's Horsham Dine and Donate
URL;VALUE=URI:https://www.materdeicatholic.com/calendar/2485818/magerks-din
 ing-night-out
DTSTART:20201207T210000Z
DTEND:20201208T020000Z
END:VEVENT
END:VCALENDAR
