BEGIN:VCALENDAR
VERSION:2.0
PRODID:SchoolNow
CALSCALE:GREGORIAN
BEGIN:VEVENT
UID:354f173c-1b9d-11eb-8a99-0a0cee3a9a45
DTSTAMP:20201031T171918Z
SUMMARY:Scholastic Online Book Fair
URL;VALUE=URI:https://www.materdeicatholic.com/calendar/2485817/scholastic-
 online-book-fair
DTSTART;VALUE=DATE:20201109
DTEND;VALUE=DATE:20201123
END:VEVENT
END:VCALENDAR
