BEGIN:VCALENDAR
VERSION:2.0
PRODID:SchoolNow
CALSCALE:GREGORIAN
BEGIN:VEVENT
UID:961fd5ac-1458-11eb-af4b-12897aece0a5
DTSTAMP:20201022T112041Z
SUMMARY:Virtual All Saints Prayer Service
URL;VALUE=URI:https://www.materdeicatholic.com/calendar/2477560/virtual-all
 -saints-prayer-service
DTSTART:20201102T190000Z
DTEND:20201102T200000Z
END:VEVENT
END:VCALENDAR
