BEGIN:VCALENDAR
VERSION:2.0
PRODID:SchoolNow
CALSCALE:GREGORIAN
BEGIN:VEVENT
UID:d837c11c-1457-11eb-8c9e-12efd73d0381
DTSTAMP:20201022T111508Z
SUMMARY:Halloween Goose Chase
URL;VALUE=URI:https://www.materdeicatholic.com/calendar/2477559/halloween-g
 oose-chase
DTSTART;VALUE=DATE:20201030
DTEND;VALUE=DATE:20201031
END:VEVENT
END:VCALENDAR
