BEGIN:VCALENDAR
VERSION:2.0
PRODID:SchoolNow
CALSCALE:GREGORIAN
BEGIN:VEVENT
UID:1ffba7f6-1247-11eb-8020-0a35f42c2e7b
DTSTAMP:20201019T201025Z
SUMMARY:Parent/Teacher Zoom Conferences
URL;VALUE=URI:https://www.materdeicatholic.com/calendar/2474904/parent-teac
 her-zoom-conferences
DTSTART;VALUE=DATE:20201123
DTEND;VALUE=DATE:20201124
END:VEVENT
END:VCALENDAR
