BEGIN:VCALENDAR
VERSION:2.0
PRODID:SchoolNow
CALSCALE:GREGORIAN
BEGIN:VEVENT
UID:082ce09a-1247-11eb-a3cc-0a35f42c2e7b
DTSTAMP:20201019T200945Z
SUMMARY:Parent/Teacher Zoom Conferences
URL;VALUE=URI:https://www.materdeicatholic.com/calendar/2474903/parent-teac
 her-zoom-conferences
DTSTART;VALUE=DATE:20201117
DTEND;VALUE=DATE:20201118
END:VEVENT
END:VCALENDAR
