BEGIN:VCALENDAR
VERSION:2.0
PRODID:SchoolNow
CALSCALE:GREGORIAN
BEGIN:VEVENT
UID:27a0c1b0-0e7f-11eb-82c8-1213f3315983
DTSTAMP:20201111T214909Z
SUMMARY:Turkey Tech Trot
URL;VALUE=URI:https://www.materdeicatholic.com/calendar/2461045/turkey-tech
 -trot
DTSTART;VALUE=DATE:20201119
DTEND;VALUE=DATE:20201121
END:VEVENT
END:VCALENDAR
